BEGIN:VCALENDAR
VERSION:2.0
CALSCALE:GREGORIAN
PRODID:-//Diputació de Barcelona//DibaCMS//EN
BEGIN:VEVENT
UID:8150
DTSTAMP:20260421T121109
DTSTART:20190307T150000
DTEND:20200306T000000
SUMMARY:Es presenten els serveis comunitaris de l’institut a diversos serveis municipals
LOCATION:
METHOD:PUBLISH
X-WR-CALNAME:sesrovires@diba.cat
X-WR-TIMEZONE:Europe/Madrid
DESCRIPTION:Durant el mes de març s’estan realitzant les presentacions del programa de serveis comunitaris que alumnes de 3r i 4t d’ESO de l’Institut Montserrat Colomer realitzaran a diversos serveis municipals. En aquest curs hi participen una quarantena d’estudiants.  

URI:https://www.sesrovires.cat/actualitat/noticies/es-presenten-els-serveis-comunitaris-de-linstitut-a-diversos-serveis-municipals.html
CLASS:PUBLIC
END:VEVENT
END:VCALENDAR
