BEGIN:VCALENDAR
VERSION:2.0
CALSCALE:GREGORIAN
PRODID:-//Diputació de Barcelona//DibaCMS//EN
BEGIN:VEVENT
UID:8155
DTSTAMP:20260421T230956
DTSTART:20190318T100000
DTEND:20200313T000000
SUMMARY:Últims dies per inscriure’s en la cursa solidària Corre en Gran
LOCATION:
METHOD:PUBLISH
X-WR-CALNAME:sesrovires@diba.cat
X-WR-TIMEZONE:Europe/Madrid
DESCRIPTION:Les inscripcions de la cursa solidària Corre en Gran entren en la seva darrera setmana, ja que la prova tindrà lloc el proper diumenge 24 de març. Enguany, la segona edició de la cursa està dedicada a recaptar fons per a la investigació sobre la malaltia esclerosi lateral amiotròfica (ELA). Les inscripcions s’han de fer a http://www.correengran.cat/inscripcions o https://xipgroc.cat

URI:https://www.sesrovires.cat/actualitat/noticies/ultims-dies-per-inscriures-en-la-cursa-solidaria-corre-en-gran.html
CLASS:PUBLIC
END:VEVENT
END:VCALENDAR
