BEGIN:VCALENDAR
VERSION:2.0
CALSCALE:GREGORIAN
PRODID:-//Diputació de Barcelona//DibaCMS//EN
BEGIN:VEVENT
UID:8158
DTSTAMP:20260421T182012
DTSTART:20190314T175000
DTEND:20200313T000000
SUMMARY:Web per consultar el cens electoral
LOCATION:
METHOD:PUBLISH
X-WR-CALNAME:sesrovires@diba.cat
X-WR-TIMEZONE:Europe/Madrid
DESCRIPTION:Amb motiu de la convocatòria de les eleccions generals del 28 d’abril, s’ha habilitat una pàgina web on els ciutadans poden consultar el cens electoral. És la url https://www.espublico.com/elecciones/ca/. En cas de reclamacions, cal tramitar-lles al SIAC abans del 18 de març. La web també conté informació sobre el funcionament de les meses electorals i els dubtes més freqüents sobre l’exercici del dret de vot.

URI:https://www.sesrovires.cat/actualitat/noticies/web-per-consultar-el-cens-electoral.html
CLASS:PUBLIC
END:VEVENT
END:VCALENDAR
