BEGIN:VCALENDAR
VERSION:2.0
CALSCALE:GREGORIAN
PRODID:-//Diputació de Barcelona//DibaCMS//EN
BEGIN:VEVENT
UID:8159
DTSTAMP:20260421T123050
DTSTART:20190315T134000
DTEND:20200314T000000
SUMMARY:L'ampliació de l'Hospital de Martorell, en marxa
LOCATION:
METHOD:PUBLISH
X-WR-CALNAME:sesrovires@diba.cat
X-WR-TIMEZONE:Europe/Madrid
DESCRIPTION:L’Hospital de Martorell ha començat les obres d’ampliació del centre, amb una durada de 8 anys i una inversió d’entre 18 i 20 milions d’euros. El projecte preveu la construcció d’un nou edifici i l’increment de serveis.

URI:https://www.sesrovires.cat/actualitat/noticies/lampliacio-de-lhospital-de-martorell-en-marxa.html
CLASS:PUBLIC
END:VEVENT
END:VCALENDAR
