BEGIN:VCALENDAR
VERSION:2.0
CALSCALE:GREGORIAN
PRODID:-//Diputació de Barcelona//DibaCMS//EN
BEGIN:VEVENT
UID:8164
DTSTAMP:20260421T181342
DTSTART:20190319T000000
DTEND:20200318T000000
SUMMARY:Adalberto Ángeles, reconegut com millor entrenador dominicà d’Europa
LOCATION:
METHOD:PUBLISH
X-WR-CALNAME:sesrovires@diba.cat
X-WR-TIMEZONE:Europe/Madrid
DESCRIPTION:Adalberto Ángeles, tècnic del Club de Judo Sant Esteve Sesrovires, ha estat premiat com millor entrenador dominicà d’Europa  en la Gala Atleta de l’Any, que organitza l’associació UNIDOM per reconèixer la tasca que realitzen els esportistes de la República Dominicana que viuen a Europa.  A més, recentment  l’entrenador sesrovirenc ha viatjat al Marroc on un dels seus esportistes ha aconseguit una medalla de bronze en el Gran Prix de Marrakech.

URI:https://www.sesrovires.cat/actualitat/noticies/adalberto-angeles-reconegut-com-millor-entrenador-dominica-deuropa.html
CLASS:PUBLIC
END:VEVENT
END:VCALENDAR
