BEGIN:VCALENDAR
VERSION:2.0
CALSCALE:GREGORIAN
PRODID:-//Diputació de Barcelona//DibaCMS//EN
BEGIN:VEVENT
UID:8165
DTSTAMP:20260421T171733
DTSTART:20190319T000000
DTEND:20200318T000000
SUMMARY:Cinc corals actuaran diumenge a Sant Esteve en la Musicoral
LOCATION:
METHOD:PUBLISH
X-WR-CALNAME:sesrovires@diba.cat
X-WR-TIMEZONE:Europe/Madrid
DESCRIPTION:La 34a edició de la Musicoral portarà diumenge a l’església parroquial a cinc corals de la comarca. El públic sesrovirenc podrà gaudir amb les actuacions de les corals Cor Creixent, SCC La Coloma, Coral La Igualtat, Cor de la Unió Filharmònica i Orfeó Enric Morera. La Musicoral és una iniciativa de la Federació Catalana d’Entitats Corals. L’entrada serà lliure.

URI:https://www.sesrovires.cat/actualitat/noticies/cinc-corals-actuaran-diumenge-a-sant-esteve-en-la-musicoral.html
CLASS:PUBLIC
END:VEVENT
END:VCALENDAR
