BEGIN:VCALENDAR
VERSION:2.0
CALSCALE:GREGORIAN
PRODID:-//Diputació de Barcelona//DibaCMS//EN
BEGIN:VEVENT
UID:8166
DTSTAMP:20260421T171543
DTSTART:20190320T000000
DTEND:20200319T000000
SUMMARY:El GIRES acull la presentació d’un llibre sobre una tragèdia de muntanya
LOCATION:
METHOD:PUBLISH
X-WR-CALNAME:sesrovires@diba.cat
X-WR-TIMEZONE:Europe/Madrid
DESCRIPTION:L’entitat excursionista GIRES presenta dijous, a les 20.00 hores, a la sala Domènech i Estapà el llibre 3 nits de torb i 1 cap d’any, que narra la tragèdia que va succeir al Pirineu a l’any 2000 a causa d’un canvi sobtat de temps.  L’acte comptarà amb la participació de l’autor, el meteoròleg Jordi Cruz i Serra. A banda d’aquest acte, el GIRES ja ha obert les inscripcions per a la Montserrat a peu del pròxim 7 d’abril.

URI:https://www.sesrovires.cat/actualitat/noticies/el-gires-acull-la-presentacio-dun-llibre-sobre-una-tragedia-de-muntanya.html
CLASS:PUBLIC
END:VEVENT
END:VCALENDAR
