BEGIN:VCALENDAR
VERSION:2.0
CALSCALE:GREGORIAN
PRODID:-//Diputació de Barcelona//DibaCMS//EN
BEGIN:VEVENT
UID:8167
DTSTAMP:20260421T174827
DTSTART:20190321T110000
DTEND:20200320T000000
SUMMARY:Carlos Romero dona suport al projecte #RepteMetàstasi
LOCATION:
METHOD:PUBLISH
X-WR-CALNAME:sesrovires@diba.cat
X-WR-TIMEZONE:Europe/Madrid
DESCRIPTION:El sesrovirenc Carlos Romero, impulsor de projectes solidaris com Nedar Contra Corrent, és una de les persones dona suport al #RepteMetàstasi, un projecte de l’Institut de Recerca Biomèdica per sensibilitzar sobre el càncer. Romero ha gravat un vídeo per a aquesta causa solidària on explica les raons per les quals s’ha implicat en aquesta campanya.

URI:https://www.sesrovires.cat/actualitat/noticies/carlos-romero-dona-suport-al-projecte-reptemetastasi.html
CLASS:PUBLIC
END:VEVENT
END:VCALENDAR
