BEGIN:VCALENDAR
VERSION:2.0
CALSCALE:GREGORIAN
PRODID:-//Diputació de Barcelona//DibaCMS//EN
BEGIN:VEVENT
UID:8168
DTSTAMP:20260421T154054
DTSTART:20190321T140000
DTEND:20200320T000000
SUMMARY:Augmenta el nombre d’usuaris de la deixalleria amb carnet 
LOCATION:
METHOD:PUBLISH
X-WR-CALNAME:sesrovires@diba.cat
X-WR-TIMEZONE:Europe/Madrid
DESCRIPTION:Durant l’any 2018, el nombre d’usuaris que han fet ús de la deixalleria és de 985, dels quals 584 disposen del carnet d’aquest servei i representen 56 més que al 2017. Per contra, els usuaris sense carnet han passat de 473 al 2017 fins als 401 l’any passat. Tenir el carnet i realitzar un mínim d’aportacions anuals a la deixalleria permet beneficiar-se de bonificacions sobre la taxa d’escombraries d'entre el 10 i el 15%.

URI:https://www.sesrovires.cat/actualitat/noticies/augmenta-el-nombre-dusuaris-de-la-deixalleria-amb-carnet-.html
CLASS:PUBLIC
END:VEVENT
END:VCALENDAR
