BEGIN:VCALENDAR
VERSION:2.0
CALSCALE:GREGORIAN
PRODID:-//Diputació de Barcelona//DibaCMS//EN
BEGIN:VEVENT
UID:8169
DTSTAMP:20260421T171846
DTSTART:20190321T150000
DTEND:20200320T000000
SUMMARY:Suport a les reivindicacions del Parc de Bombers de Martorell
LOCATION:
METHOD:PUBLISH
X-WR-CALNAME:sesrovires@diba.cat
X-WR-TIMEZONE:Europe/Madrid
DESCRIPTION:L’Ajuntament de Sant Esteve ha mostrat el seu suport unànime a les reivindicacions dels bombers amb l’aprovació d’una moció que reclama la millora de les condicions laborals d’aquest cos. A Sant Esteve, el parc de referència és el de Martorell, un parc amb importants mancances.

URI:https://www.sesrovires.cat/actualitat/noticies/suport-a-les-reivindicacions-del-parc-de-bombers-de-martorell.html
CLASS:PUBLIC
END:VEVENT
END:VCALENDAR
