BEGIN:VCALENDAR
VERSION:2.0
CALSCALE:GREGORIAN
PRODID:-//Diputació de Barcelona//DibaCMS//EN
BEGIN:VEVENT
UID:8177
DTSTAMP:20260421T171923
DTSTART:20190326T000000
DTEND:20200325T000000
SUMMARY:L’handbol femení s’obre camí
LOCATION:
METHOD:PUBLISH
X-WR-CALNAME:sesrovires@diba.cat
X-WR-TIMEZONE:Europe/Madrid
DESCRIPTION:L’handbol femení és una de les apostes del Club Handbol Sant Esteve. Aquesta temporada, el club compta amb tres equips federats i tres més als jocs esportius escolars. Un dels equips més destacats és l’infantil A, amb uns bons resultats en Primera Catalana i amb vàries de les seves jugadores convocades regularment per la Federació d’Handbol.

URI:https://www.sesrovires.cat/actualitat/noticies/lhandbol-femeni-sobre-cami.html
CLASS:PUBLIC
END:VEVENT
END:VCALENDAR
