BEGIN:VCALENDAR
VERSION:2.0
CALSCALE:GREGORIAN
PRODID:-//Diputació de Barcelona//DibaCMS//EN
BEGIN:VEVENT
UID:8178
DTSTAMP:20260421T203039
DTSTART:20190326T150000
DTEND:20200325T000000
SUMMARY:El Baix Nord demana la reducció de la zona tarifària del transport
LOCATION:
METHOD:PUBLISH
X-WR-CALNAME:sesrovires@diba.cat
X-WR-TIMEZONE:Europe/Madrid
DESCRIPTION:Els ajuntaments del Baix Llobregat Nord reclamen la reducció d’una zona tarifària del transport públic. En aquest sentit, Abrera, Esparreguera, Martorell, Olesa i Sant Esteve, que pertanyen a la zona 3, i Castellví i Collbató a la zona 4, estan treballant en la redacció d’un document de consens que es traslladarà a la Generalitat. Paral·lelament, els consistoris estan presentant mocions recollint aquesta reivindicació. A Sant Esteve es preveu que passi en el proper ple municipal. 

URI:https://www.sesrovires.cat/actualitat/noticies/el-baix-nord-demana-la-reduccio-de-la-zona-tarifaria-del-transport.html
CLASS:PUBLIC
END:VEVENT
END:VCALENDAR
