BEGIN:VCALENDAR
VERSION:2.0
CALSCALE:GREGORIAN
PRODID:-//Diputació de Barcelona//DibaCMS//EN
BEGIN:VEVENT
UID:8179
DTSTAMP:20260421T200458
DTSTART:20190327T000000
DTEND:20200326T000000
SUMMARY:El Club d’Escacs torna a pujar a  Primera Provincial
LOCATION:
METHOD:PUBLISH
X-WR-CALNAME:sesrovires@diba.cat
X-WR-TIMEZONE:Europe/Madrid
DESCRIPTION:El Club d’Escacs Sant Esteve ha competit aquesta temporada amb dos equips en la Lliga Catalana. Un d’ells s’ha proclamat campió del seu grup a Segona Provincial, fet que li permetrà jugar el proper any en Primera Provincial, categoria en la qual ja havien jugat fa dues temporades. Amb aquest bon resultat, els sesrovirencs passen a disputar la fase final que decidiran qui serà l’equip campió de Catalunya de la categoria.

URI:https://www.sesrovires.cat/actualitat/noticies/el-club-descacs-torna-a-pujar-a-primera-provincial.html
CLASS:PUBLIC
END:VEVENT
END:VCALENDAR
