BEGIN:VCALENDAR
VERSION:2.0
CALSCALE:GREGORIAN
PRODID:-//Diputació de Barcelona//DibaCMS//EN
BEGIN:VEVENT
UID:8181
DTSTAMP:20260421T215414
DTSTART:20190327T150000
DTEND:20200326T000000
SUMMARY:Preinscripció a segon cicle d’infantil, primària i ESO, del 29 de març al 9 d’abril
LOCATION:
METHOD:PUBLISH
X-WR-CALNAME:sesrovires@diba.cat
X-WR-TIMEZONE:Europe/Madrid
DESCRIPTION:A partir de divendres 29 març i fins al 9 d’abril s’obre el període per presentar la sol•licitud de preinscripció escolar per al segon cicle d’educació infantil, primària i secundària obligatòria, per al curs escolar 2019-2020. Tota la informació i documentació està disponible a l’apartat d’Educació del web sesrovires.cat o al web del Departament d’Educació de la Generalitat.



URI:https://www.sesrovires.cat/actualitat/noticies/preinscripcio-a-segon-cicle-dinfantil-primaria-i-eso-del-29-de-marc-al-9-dabril.html
CLASS:PUBLIC
END:VEVENT
END:VCALENDAR
