BEGIN:VCALENDAR
VERSION:2.0
CALSCALE:GREGORIAN
PRODID:-//Diputació de Barcelona//DibaCMS//EN
BEGIN:VEVENT
UID:8198
DTSTAMP:20260421T184348
DTSTART:20190328T150000
DTEND:20200327T000000
SUMMARY:Nous vehicles de rènting per a la brigada 
LOCATION:
METHOD:PUBLISH
X-WR-CALNAME:sesrovires@diba.cat
X-WR-TIMEZONE:Europe/Madrid
DESCRIPTION:Avui han entrat en servei dos nous vehicles destinats a la brigada municipal. Es tracta de dos pick-up 4x4 model Nissan Navara adquirits a través de la Central de compres de l’ Associació de Municipis i Comarques (ACM) en modalitat de rènting, amb una durada de 4 anys.

URI:https://www.sesrovires.cat/actualitat/noticies/nous-vehicles-de-renting-per-a-la-brigada-.html
CLASS:PUBLIC
END:VEVENT
END:VCALENDAR
