BEGIN:VCALENDAR
VERSION:2.0
CALSCALE:GREGORIAN
PRODID:-//Diputació de Barcelona//DibaCMS//EN
BEGIN:VEVENT
UID:8199
DTSTAMP:20260421T174454
DTSTART:20190328T151000
DTEND:20200327T000000
SUMMARY:En marxa les obres de renovació de la xarxa d'aigua al carrer Carrilet
LOCATION:
METHOD:PUBLISH
X-WR-CALNAME:sesrovires@diba.cat
X-WR-TIMEZONE:Europe/Madrid
DESCRIPTION:Aquesta setmana han començat les obres per substituir les canonades d’aigua potable al carrer Carrilet, a Vallserrat. Es renoven 1.200 m. lineals de canonada de fosa i s’instal·len 3 hidrants contra incendis. La durada de les obres és d’uns tres mesos. L’actuació, amb un cost de 394.000 euros, forma part del Pla d’inversions per modernitzar la xarxa del municipi que gestiona SOREA. 



URI:https://www.sesrovires.cat/actualitat/noticies/en-marxa-les-obres-de-renovacio-de-la-xarxa-daigua-al-carrer-carrilet.html
CLASS:PUBLIC
END:VEVENT
END:VCALENDAR
