BEGIN:VCALENDAR
VERSION:2.0
CALSCALE:GREGORIAN
PRODID:-//Diputació de Barcelona//DibaCMS//EN
BEGIN:VEVENT
UID:8201
DTSTAMP:20260421T174810
DTSTART:20190329T133000
DTEND:20200328T000000
SUMMARY:Arriba el Supermes del Baix Llobregat amb promocions per al turisme familiar, també a Sant Esteve 
LOCATION:
METHOD:PUBLISH
X-WR-CALNAME:sesrovires@diba.cat
X-WR-TIMEZONE:Europe/Madrid
DESCRIPTION:Quatre actius turístics de Sant Esteve participen en el Supermes del Baix Llobregat, una campanya amb més d’un centenar de propostes d’activitats familiars d’oci, cultura i gastronomia amb interessants descomptes, impulsada pel Consorci de Turisme del Baix Llobregat.



URI:https://www.sesrovires.cat/actualitat/noticies/arriba-el-supermes-del-baix-llobregat-amb-promocions-per-al-turisme-familiar-tambe-a-sant-esteve-.html
CLASS:PUBLIC
END:VEVENT
END:VCALENDAR
