BEGIN:VCALENDAR
VERSION:2.0
CALSCALE:GREGORIAN
PRODID:-//Diputació de Barcelona//DibaCMS//EN
BEGIN:VEVENT
UID:8202
DTSTAMP:20260422T051818
DTSTART:20190329T150000
DTEND:20200328T000000
SUMMARY: Un estudi avalua l’afectació de les línies transport de serveis i la implantació d’una taxa a les companyies
LOCATION:
METHOD:PUBLISH
X-WR-CALNAME:sesrovires@diba.cat
X-WR-TIMEZONE:Europe/Madrid
DESCRIPTION:La Diputació de Barcelona ha realitzat un estudi sobre les afectacions de les línies de transport d’energia elèctrica, gas, aigua o hidrocarburs al municipi, amb identificació del domini públic local de les afectacions de cada servei. A partir d’aquesta afectació, el treball determina que l’estimació de la possible recaptació de la taxa a aplicar a les companyies per aquest concepte és de 40.000 euros anuals.

URI:https://www.sesrovires.cat/actualitat/noticies/-un-estudi-avalua-lafectacio-de-les-linies-transport-de-serveis-i-la-implantacio-duna-taxa-a-les-companyies.html
CLASS:PUBLIC
END:VEVENT
END:VCALENDAR
