BEGIN:VCALENDAR
VERSION:2.0
CALSCALE:GREGORIAN
PRODID:-//Diputació de Barcelona//DibaCMS//EN
BEGIN:VEVENT
UID:8205
DTSTAMP:20260421T222729
DTSTART:20190402T000000
DTEND:20200401T000000
SUMMARY:Tres Tombs amb esmorzar popular a la plaça del Doctor Tarrés
LOCATION:
METHOD:PUBLISH
X-WR-CALNAME:sesrovires@diba.cat
X-WR-TIMEZONE:Europe/Madrid
DESCRIPTION:Carros i cavalls seran els protagonistes diumenge 7 d’abril dels Tres Tombs. La principal novetat d’aquest any és la recuperació de la botifarrada popular. Tant l’esmorzar com la sortida dels Tres Tombs serà la plaça del Doctor Tarrés. Els actes estan organitzats per l’Àrea de Cultura amb la col·laboració de la Societat de Caçadors i de l’Hípica de Can Prats.

URI:https://www.sesrovires.cat/actualitat/noticies/tres-tombs-amb-esmorzar-popular-a-la-placa-del-doctor-tarres.html
CLASS:PUBLIC
END:VEVENT
END:VCALENDAR
