BEGIN:VCALENDAR
VERSION:2.0
CALSCALE:GREGORIAN
PRODID:-//Diputació de Barcelona//DibaCMS//EN
BEGIN:VEVENT
UID:8207
DTSTAMP:20260422T014613
DTSTART:20190402T150000
DTEND:20200401T000000
SUMMARY:Comencen les obres del nou accés de Masia Bach a la B-224
LOCATION:
METHOD:PUBLISH
X-WR-CALNAME:sesrovires@diba.cat
X-WR-TIMEZONE:Europe/Madrid
DESCRIPTION:Aquesta setmana han començat les obres per habilitar la sortida de l’escola Àgora i la urbanització Masia Bach a la B-224 en direcció Martorell, amb la creació d’un carril central de gir que eviti la perillositat de l'actual trencall. La durada de les obres es preveu d’unes cinc setmanes.

URI:https://www.sesrovires.cat/actualitat/noticies/comencen-les-obres-del-nou-acces-de-masia-bach-a-la-b-224.html
CLASS:PUBLIC
END:VEVENT
END:VCALENDAR
