BEGIN:VCALENDAR
VERSION:2.0
CALSCALE:GREGORIAN
PRODID:-//Diputació de Barcelona//DibaCMS//EN
BEGIN:VEVENT
UID:8208
DTSTAMP:20260421T210349
DTSTART:20190402T123000
DTEND:20200401T000000
SUMMARY:Jana Fernández, de Suècia a Bulgària
LOCATION:
METHOD:PUBLISH
X-WR-CALNAME:sesrovires@diba.cat
X-WR-TIMEZONE:Europe/Madrid
DESCRIPTION:La selecció espanyola de futbol femení sub17, on juga la sesrovirenca Jana Fernández, ha quedat primera del seu grup en la ronda elit que s’ha celebrat a Suècia del 23 al 29 de març. Amb aquest resultat,  la selecció de Jana Fernández es classifica per disputar el campionat d’Europa que se celebrarà del 5 al 17 de maig a Bulgària.

URI:https://www.sesrovires.cat/actualitat/noticies/jana-fernandez-de-suecia-a-bulgaria.html
CLASS:PUBLIC
END:VEVENT
END:VCALENDAR
