BEGIN:VCALENDAR
VERSION:2.0
CALSCALE:GREGORIAN
PRODID:-//Diputació de Barcelona//DibaCMS//EN
BEGIN:VEVENT
UID:8209
DTSTAMP:20260421T205714
DTSTART:20190403T133000
DTEND:20200401T000000
SUMMARY:La Comissió de la Cavalcada de Reis estrena pàgina web
LOCATION:
METHOD:PUBLISH
X-WR-CALNAME:sesrovires@diba.cat
X-WR-TIMEZONE:Europe/Madrid
DESCRIPTION:La Comissió de la Cavalcada dels Reis d’Orient ha donat un pas endavant aquest any amb la creació de la pàgina web https://a-sanes-fem-cavalcada.webnode.es/. Les persones que vulguin col·laborar amb la nit màgica del 5 al 6 de gener, es poden posar en contacte amb la Comissió a través de la nova pàgina web.

URI:https://www.sesrovires.cat/actualitat/noticies/la-comissio-de-la-cavalcada-de-reis-estrena-pagina-web.html
CLASS:PUBLIC
END:VEVENT
END:VCALENDAR
