BEGIN:VCALENDAR
VERSION:2.0
CALSCALE:GREGORIAN
PRODID:-//Diputació de Barcelona//DibaCMS//EN
BEGIN:VEVENT
UID:8211
DTSTAMP:20260421T210652
DTSTART:20190404T081500
DTEND:20200402T000000
SUMMARY:Participació de l’handbol sesrovirenc a les seleccions catalanes
LOCATION:
METHOD:PUBLISH
X-WR-CALNAME:sesrovires@diba.cat
X-WR-TIMEZONE:Europe/Madrid
DESCRIPTION:Aquest cap de setmana, els jugadors i jugadores del Club Handbol Sant Esteve tenen una doble cita. D’una banda, han de disputar els partits de la competició oficial. I d’altra banda, un grup d’esportistes sesrovirencs han estat convocats, per al diumenge 7 d’abril, per les seleccions catalanes de categoria juvenil cadet i infantil.

URI:https://www.sesrovires.cat/actualitat/noticies/participacio-de-lhandbol-sesrovirenc-a-les-seleccions-catalanes.html
CLASS:PUBLIC
END:VEVENT
END:VCALENDAR
