BEGIN:VCALENDAR
VERSION:2.0
CALSCALE:GREGORIAN
PRODID:-//Diputació de Barcelona//DibaCMS//EN
BEGIN:VEVENT
UID:8212
DTSTAMP:20260422T014101
DTSTART:20190404T120000
DTEND:20200403T000000
SUMMARY:Consulta del cens per a les eleccions del 26 de maig i informació d’interès
LOCATION:
METHOD:PUBLISH
X-WR-CALNAME:sesrovires@diba.cat
X-WR-TIMEZONE:Europe/Madrid
DESCRIPTION:A partir del dilluns dia 8 i fins al 15 d’abril es poden consultar les llistes de cens electoral per tal de verificar les dades i poder exercir el dret a vot a les properes eleccions Municipals i Europees convocades pel 26 de maig.

URI:https://www.sesrovires.cat/actualitat/noticies/consulta-del-cens-per-a-les-eleccions-del-26-de-maig-i-informacio-dinteres.html
CLASS:PUBLIC
END:VEVENT
END:VCALENDAR
