BEGIN:VCALENDAR
VERSION:2.0
CALSCALE:GREGORIAN
PRODID:-//Diputació de Barcelona//DibaCMS//EN
BEGIN:VEVENT
UID:8213
DTSTAMP:20260421T223538
DTSTART:20190405T000000
DTEND:20200404T000000
SUMMARY:Àgora acull les proves de nivell per al Campionat de Catalunya
LOCATION:
METHOD:PUBLISH
X-WR-CALNAME:sesrovires@diba.cat
X-WR-TIMEZONE:Europe/Madrid
DESCRIPTION:Àgora International School Barcelona acull dissabte les proves de nivell de la Federació Catalana de Natació. Aquest test serveix per poder entrar en els campionats de Catalunya del mes de juny.  La piscina del centre educatiu Àgora Internacional està homologada per la Federació Catalana.

URI:https://www.sesrovires.cat/actualitat/noticies/agora-acull-les-proves-de-nivell-per-al-campionat-de-catalunya.html
CLASS:PUBLIC
END:VEVENT
END:VCALENDAR
