BEGIN:VCALENDAR
VERSION:2.0
CALSCALE:GREGORIAN
PRODID:-//Diputació de Barcelona//DibaCMS//EN
BEGIN:VEVENT
UID:8214
DTSTAMP:20260421T230728
DTSTART:20190408T130000
DTEND:20200404T000000
SUMMARY:Taller d’emocions per als estudiants de l’ESO
LOCATION:
METHOD:PUBLISH
X-WR-CALNAME:sesrovires@diba.cat
X-WR-TIMEZONE:Europe/Madrid
DESCRIPTION:Alumnes de 1r i 3r d’ESO  de l’Institut Montserrat Colomer estan participant en un taller de gestió emocional. El seminari està organitzat per l’Àrea d'Educació i se centra especialment en aspectes com la  gestió de les emocions, la millora de l’autoestima i el desenvolupament del jo a partir dels interessos, motivacions i característiques personals.

URI:https://www.sesrovires.cat/actualitat/noticies/taller-democions-per-als-estudiants-de-leso.html
CLASS:PUBLIC
END:VEVENT
END:VCALENDAR
