BEGIN:VCALENDAR
VERSION:2.0
CALSCALE:GREGORIAN
PRODID:-//Diputació de Barcelona//DibaCMS//EN
BEGIN:VEVENT
UID:8215
DTSTAMP:20260421T215450
DTSTART:20190405T112000
DTEND:20200404T000000
SUMMARY:EL Club d’Escacs juga les semifinals del Campionat de Catalunya
LOCATION:
METHOD:PUBLISH
X-WR-CALNAME:sesrovires@diba.cat
X-WR-TIMEZONE:Europe/Madrid
DESCRIPTION:Després de guanyar al Sant Adrià D la setmana passada, el Club d’Escacs Sant Esteve disputarà diumenge la semifinal del Campionat de Catalunya. El seu rival és el Vic i el matx se celebrarà a la Sala Domènech i Estapà a partir de les 9.30 hores. 

URI:https://www.sesrovires.cat/actualitat/noticies/el-club-descacs-juga-les-semifinals-del-campionat-de-catalunya.html
CLASS:PUBLIC
END:VEVENT
END:VCALENDAR
