BEGIN:VCALENDAR
VERSION:2.0
CALSCALE:GREGORIAN
PRODID:-//Diputació de Barcelona//DibaCMS//EN
BEGIN:VEVENT
UID:8218
DTSTAMP:20260421T214034
DTSTART:20190408T140000
DTEND:20200407T000000
SUMMARY:Sant Esteve s’adhereix al programa UBICAT per la inserció de persones aturades
LOCATION:
METHOD:PUBLISH
X-WR-CALNAME:sesrovires@diba.cat
X-WR-TIMEZONE:Europe/Madrid
DESCRIPTION:L’Ajuntament de Sant Esteve s’ha sumat al programa UBICAT d’acompanyament a la inserció i suport ocupacional per a la inclusió social que promou el Consell Comarcal. El programa s’adreça a persones en situació d’atur, persones inactives i persones treballadores, amb especial atenció a les que es troben en situació de precarietat laboral i als aturats de llarga durada.

URI:https://www.sesrovires.cat/actualitat/noticies/sant-esteve-sadhereix-al-programa-ubicat-per-la-insercio-de-persones-aturades.html
CLASS:PUBLIC
END:VEVENT
END:VCALENDAR
