BEGIN:VCALENDAR
VERSION:2.0
CALSCALE:GREGORIAN
PRODID:-//Diputació de Barcelona//DibaCMS//EN
BEGIN:VEVENT
UID:8220
DTSTAMP:20260421T230828
DTSTART:20190408T150000
DTEND:20200407T000000
SUMMARY:Obert el període per sol•licitar parada al mercat de diumenge
LOCATION:
METHOD:PUBLISH
X-WR-CALNAME:sesrovires@diba.cat
X-WR-TIMEZONE:Europe/Madrid
DESCRIPTION:Des d’avui dia 8 d'abril i fins al 6 de maig s’obre el termini per presentar propostes per a les llicències per venda no sedentària al mercat que té lloc els diumenges, al polígon Anoia. En total s’han d’adjudicar 141 parades.

URI:https://www.sesrovires.cat/actualitat/noticies/obert-el-periode-per-sollicitar-parada-al-mercat-de-diumenge.html
CLASS:PUBLIC
END:VEVENT
END:VCALENDAR
