BEGIN:VCALENDAR
VERSION:2.0
CALSCALE:GREGORIAN
PRODID:-//Diputació de Barcelona//DibaCMS//EN
BEGIN:VEVENT
UID:8222
DTSTAMP:20260422T060943
DTSTART:20190409T000000
DTEND:20200408T000000
SUMMARY:Sesrovirencs finalitzen una cursa de 100km per lluitar contra la pobresa
LOCATION:
METHOD:PUBLISH
X-WR-CALNAME:sesrovires@diba.cat
X-WR-TIMEZONE:Europe/Madrid
DESCRIPTION:Aquest cap de setmana s’ha celebrat la Trailwalker de Girona, una cursa organitzada per Oxfam Intermón per recaptar diners contra la pobresa en el món.  Dos equips de la trail han comptat amb representació sesrovirenca i han aconseguit no només finalitzar les marxes de 50 i 100km, sinó també reunir més de 6.500 euros en aportacions solidàries.

URI:https://www.sesrovires.cat/actualitat/noticies/sesrovirencs-finalitzen-una-cursa-de-100km-per-lluitar-contra-la-pobresa.html
CLASS:PUBLIC
END:VEVENT
END:VCALENDAR
