BEGIN:VCALENDAR
VERSION:2.0
CALSCALE:GREGORIAN
PRODID:-//Diputació de Barcelona//DibaCMS//EN
BEGIN:VEVENT
UID:8223
DTSTAMP:20260422T010642
DTSTART:20190409T130000
DTEND:20200408T000000
SUMMARY:La processó de Divendres dels Dolors obre els actes de Setmana Santa
LOCATION:
METHOD:PUBLISH
X-WR-CALNAME:sesrovires@diba.cat
X-WR-TIMEZONE:Europe/Madrid
DESCRIPTION:La Cofradía del Santo Cristo prepara per al 12 d’abril la processó de Divendres dels Dolors.  Els membres de l’entitat de Sant Esteve Sesrovires estaran acompanyats per la banda de música de la Virgen de la Sierra i pels costaleros de la Veracruz. La processó començarà a les 21.00 hores  i sortirà i finalitzarà a la plaça del Doctor Tarrés.

URI:https://www.sesrovires.cat/actualitat/noticies/la-processo-de-divendres-dels-dolors-obre-els-actes-de-setmana-santa.html
CLASS:PUBLIC
END:VEVENT
END:VCALENDAR
