BEGIN:VCALENDAR
VERSION:2.0
CALSCALE:GREGORIAN
PRODID:-//Diputació de Barcelona//DibaCMS//EN
BEGIN:VEVENT
UID:8224
DTSTAMP:20260422T023847
DTSTART:20190409T134500
DTEND:20200408T000000
SUMMARY:Els ajuntaments del Baix Nord oficialitzen la reclamació per reduir una zona tarifària
LOCATION:
METHOD:PUBLISH
X-WR-CALNAME:sesrovires@diba.cat
X-WR-TIMEZONE:Europe/Madrid
DESCRIPTION:Alcaldes i regidors de set ajuntaments del Baix Llobregat Nord han formalitzat aquest matí al registre del Departament de Territori i Sostenibilitat de la Generalitat la presentació d’un document de consens per reduir una zona tarifària del transport públic. En una carta conjunta dirigida al conseller Damià Calvet, Abrera, Castellví, Collbató, Esparreguera, Martorell, Olesa i Sant Esteve reclamen minimitzar el greuge que pateixen els veïns dels municipis no metropolitans, amb menys opcions de mobilitat.

URI:https://www.sesrovires.cat/actualitat/noticies/els-ajuntaments-del-baix-nord-oficialitzen-la-reclamacio-per-reduir-una-zona-tarifaria.html
CLASS:PUBLIC
END:VEVENT
END:VCALENDAR
