BEGIN:VCALENDAR
VERSION:2.0
CALSCALE:GREGORIAN
PRODID:-//Diputació de Barcelona//DibaCMS//EN
BEGIN:VEVENT
UID:8227
DTSTAMP:20260421T213000
DTSTART:20190410T000000
DTEND:20200409T000000
SUMMARY:El taekwondo sesrovirenc triomfa en la competició
LOCATION:
METHOD:PUBLISH
X-WR-CALNAME:sesrovires@diba.cat
X-WR-TIMEZONE:Europe/Madrid
DESCRIPTION:El primer trimestre del 2019 ha estat una etapa d’intensa activitat per a l’Escola Taekwondo Sesrovires. El taekwondo sesrovirenc ha viatjat per Catalunya, Espanya i Europa per participar en diversos campionats de pumse i de combat. Els darrers èxits els ha obtingut al Torneig de l’Amistat. El proper repte és l’Open d’Espanya.

URI:https://www.sesrovires.cat/actualitat/noticies/el-taekwondo-sesrovirenc-triomfa-en-la-competicio.html
CLASS:PUBLIC
END:VEVENT
END:VCALENDAR
