BEGIN:VCALENDAR
VERSION:2.0
CALSCALE:GREGORIAN
PRODID:-//Diputació de Barcelona//DibaCMS//EN
BEGIN:VEVENT
UID:8229
DTSTAMP:20260422T010502
DTSTART:20190411T000000
DTEND:20200410T000000
SUMMARY:Estudiants de l’Institut aprenen les oportunitats que els ofereix Europa
LOCATION:
METHOD:PUBLISH
X-WR-CALNAME:sesrovires@diba.cat
X-WR-TIMEZONE:Europe/Madrid
DESCRIPTION:L’Àrea de Joventut, a través del PIDCES, va organitzar el passat 10 d’abril una conferència per als estudiants de 2n de Batxillerat de l'Institut Montserrat Colomer sobre les oportunitats que els ofereix la Unió Europea en matèria de mobilitat, tant en l’àmbit acadèmic com en el professional i el del voluntariat. La xerrada va comptar amb la col·laboració d’Europe Direct Barcelona.

URI:https://www.sesrovires.cat/actualitat/noticies/estudiants-de-linstitut-aprenen-les-oportunitats-que-els-ofereix-europa.html
CLASS:PUBLIC
END:VEVENT
END:VCALENDAR
