BEGIN:VCALENDAR
VERSION:2.0
CALSCALE:GREGORIAN
PRODID:-//Diputació de Barcelona//DibaCMS//EN
BEGIN:VEVENT
UID:8230
DTSTAMP:20260421T214220
DTSTART:20190411T142500
DTEND:20200410T000000
SUMMARY:Obres de millora de l'accessibilitat al Casal Social de Ca n'Amat
LOCATION:
METHOD:PUBLISH
X-WR-CALNAME:sesrovires@diba.cat
X-WR-TIMEZONE:Europe/Madrid
DESCRIPTION:Aquesta setmana han començat les obres per a l'adequació de l'accés al Casal Social de Ca n'Amat des de l'avinguda Sant Esteve. L’objectiu és millorar l’accessibilitat a les persones amb mobilitat reduïda.

URI:https://www.sesrovires.cat/actualitat/noticies/obres-de-millora-de-laccessibilitat-al-casal-social-de-ca-namat.html
CLASS:PUBLIC
END:VEVENT
END:VCALENDAR
