BEGIN:VCALENDAR
VERSION:2.0
CALSCALE:GREGORIAN
PRODID:-//Diputació de Barcelona//DibaCMS//EN
BEGIN:VEVENT
UID:8232
DTSTAMP:20260422T010630
DTSTART:20190415T113000
DTEND:20200413T000000
SUMMARY:Comencen les millores d’accessibilitat a la plaça del Doctor Tarrés
LOCATION:
METHOD:PUBLISH
X-WR-CALNAME:sesrovires@diba.cat
X-WR-TIMEZONE:Europe/Madrid
DESCRIPTION:Avui s’han iniciat les actuacions per millorar l’accessibilitat a la plaça del Dr. Tarrés. Amb l’execució d’aquests treballs es vol facilitar l’accés a aquest espai públic a les persones amb mobilitat reduïda i ampliar l’espai per acollir-hi activitats i dinamitzar la zona.

URI:https://www.sesrovires.cat/actualitat/noticies/comencen-les-millores-daccessibilitat-a-la-placa-del-doctor-tarres.html
CLASS:PUBLIC
END:VEVENT
END:VCALENDAR
