BEGIN:VCALENDAR
VERSION:2.0
CALSCALE:GREGORIAN
PRODID:-//Diputació de Barcelona//DibaCMS//EN
BEGIN:VEVENT
UID:8233
DTSTAMP:20260422T010533
DTSTART:20190416T090000
DTEND:20200413T000000
SUMMARY:Abrera i Sant Esteve signen un acord per la cotitularitat del Casal Social de Ca n’Amat
LOCATION:
METHOD:PUBLISH
X-WR-CALNAME:sesrovires@diba.cat
X-WR-TIMEZONE:Europe/Madrid
DESCRIPTION:Els alcaldes d’Abrera i de Sant Esteve, Jesús Naharro i Enric Carbonell, han subscrit un nou conveni que regula la cotitularitat del Casal Social del barri de Ca n’Amat. L’acord té com a objectiu normalitzar la situació d’aquest equipament, tant pel que fa a la inscripció registral com a la seva gestió intermunicipal i permetrà també iniciar la licitació per la gestió del servei de bar.  

URI:https://www.sesrovires.cat/actualitat/noticies/abrera-i-sant-esteve-signen-un-acord-per-la-cotitularitat-del-casal-social-de-ca-namat.html
CLASS:PUBLIC
END:VEVENT
END:VCALENDAR
