BEGIN:VCALENDAR
VERSION:2.0
CALSCALE:GREGORIAN
PRODID:-//Diputació de Barcelona//DibaCMS//EN
BEGIN:VEVENT
UID:8234
DTSTAMP:20260421T232542
DTSTART:20190417T080000
DTEND:20200413T000000
SUMMARY:Sant Esteve exposa les al·legacions al Pla Director Urbanístic i d’Infraestructures de la ròtula Abrera-Martorell
LOCATION:
METHOD:PUBLISH
X-WR-CALNAME:sesrovires@diba.cat
X-WR-TIMEZONE:Europe/Madrid
DESCRIPTION:L’Ajuntament de Sant Esteve ha defensat davant de la Direcció General d’Urbanisme i Carreteres les al·legacions presentades al Pla Director Urbanístic i d’Infraestructures de la ròtula Martorell-Abrera. Les propostes aborden mesures per integrar les noves infraestructures viàries a l’entorn o la priorització de connexions que evitin la saturació de la xarxa. 

URI:https://www.sesrovires.cat/actualitat/noticies/sant-esteve-exposa-les-allegacions-al-pla-director-urbanistic-i-dinfraestructures-de-la-rotula-abrera-martorell.html
CLASS:PUBLIC
END:VEVENT
END:VCALENDAR
