BEGIN:VCALENDAR
VERSION:2.0
CALSCALE:GREGORIAN
PRODID:-//Diputació de Barcelona//DibaCMS//EN
BEGIN:VEVENT
UID:8235
DTSTAMP:20260422T010922
DTSTART:20190415T090000
DTEND:20200413T000000
SUMMARY:La problemàtica de les urbanitzacions amb dèficits arriba al Parlament
LOCATION:
METHOD:PUBLISH
X-WR-CALNAME:sesrovires@diba.cat
X-WR-TIMEZONE:Europe/Madrid
DESCRIPTION:Com Pou del Merli, a Catalunya hi ha 750 urbanitzacions amb dèficits urbanístics i anomalies, que no poden afrontar ni veïns ni ajuntaments. En aquest sentit, el Parlament ha aprovat per unanimitat una moció que demana la modificació de la legislació i fer viables els costos d’urbanitzar.

URI:https://www.sesrovires.cat/actualitat/noticies/la-problematica-de-les-urbanitzacions-amb-deficits-arriba-al-parlament.html
CLASS:PUBLIC
END:VEVENT
END:VCALENDAR
