BEGIN:VCALENDAR
VERSION:2.0
CALSCALE:GREGORIAN
PRODID:-//Diputació de Barcelona//DibaCMS//EN
BEGIN:VEVENT
UID:8237
DTSTAMP:20260422T025855
DTSTART:20190415T110000
DTEND:20200414T000000
SUMMARY:Inscripcions obertes per a la Cursa Sant Jordi
LOCATION:
METHOD:PUBLISH
X-WR-CALNAME:sesrovires@diba.cat
X-WR-TIMEZONE:Europe/Madrid
DESCRIPTION:Les inscripcions a la tradicional Cursa de Sant Jordi comencen el 15 d’abril. La Cursa està organitzada per l’Àrea d’Esports i torna  a apostar per un esdeveniment esportiu popular, no competitiu i obert a les persones de totes les edats. La prova esportiva tindrà lloc enguany el 5 de maig a causa del calendari electoral. 

URI:https://www.sesrovires.cat/actualitat/noticies/inscripcions-obertes-per-a-la-cursa-sant-jordi.html
CLASS:PUBLIC
END:VEVENT
END:VCALENDAR
