BEGIN:VCALENDAR
VERSION:2.0
CALSCALE:GREGORIAN
PRODID:-//Diputació de Barcelona//DibaCMS//EN
BEGIN:VEVENT
UID:8239
DTSTAMP:20260422T010839
DTSTART:20190416T080000
DTEND:20200414T000000
SUMMARY:L’equip de veterans, campió de la lliga de futbol
LOCATION:
METHOD:PUBLISH
X-WR-CALNAME:sesrovires@diba.cat
X-WR-TIMEZONE:Europe/Madrid
DESCRIPTION:Quan encara no s’ha acabat la lliga, l’equip de veterans del FC Sant Esteve s’ha proclamat el campió de la competició. A més,  amb aquest primer lloc també s’ha assegurat l’ascens de categoria.

URI:https://www.sesrovires.cat/actualitat/noticies/lequip-de-veterans-campio-de-la-lliga-de-futbol.html
CLASS:PUBLIC
END:VEVENT
END:VCALENDAR
