BEGIN:VCALENDAR
VERSION:2.0
CALSCALE:GREGORIAN
PRODID:-//Diputació de Barcelona//DibaCMS//EN
BEGIN:VEVENT
UID:8240
DTSTAMP:20260422T024040
DTSTART:20190424T133000
DTEND:20200414T000000
SUMMARY:Els alumnes de l’Institut debaten sobre les relacions de gènere
LOCATION:
METHOD:PUBLISH
X-WR-CALNAME:sesrovires@diba.cat
X-WR-TIMEZONE:Europe/Madrid
DESCRIPTION:El Punt d’Informació Juvenil (PIDCES) de l’Àrea de Joventut ha impartit  tallers de gènere a l’Institut Montserrat Colomer.  A través d’una metodologia participativa, es pretén que els estudiants prenguin consciència dels rols de gènere i prevenir les relacions de control que es poden donar entre les parelles joves. Els alumnes de 2n d’ESO han fet els tallers entre el mesos de febrer i març.

URI:https://www.sesrovires.cat/actualitat/noticies/els-alumnes-de-linstitut-debaten-sobre-les-relacions-de-genere.html
CLASS:PUBLIC
END:VEVENT
END:VCALENDAR
