BEGIN:VCALENDAR
VERSION:2.0
CALSCALE:GREGORIAN
PRODID:-//Diputació de Barcelona//DibaCMS//EN
BEGIN:VEVENT
UID:8241
DTSTAMP:20260422T010732
DTSTART:20190426T082400
DTEND:20200424T000000
SUMMARY:Futbol internacional a Sant Esteve Sesrovires
LOCATION:
METHOD:PUBLISH
X-WR-CALNAME:sesrovires@diba.cat
X-WR-TIMEZONE:Europe/Madrid
DESCRIPTION:Aprofitant l’aturada de la competició oficial, tant el Futbol Club Sant Esteve com el Club Àgora han organitzat tornejos durant la Setmana Santa amb la participació d’equips d’Àsia, Oceania i Amèrica.

URI:https://www.sesrovires.cat/actualitat/noticies/futbol-internacional-a-sant-esteve-sesrovires.html
CLASS:PUBLIC
END:VEVENT
END:VCALENDAR
