BEGIN:VCALENDAR
VERSION:2.0
CALSCALE:GREGORIAN
PRODID:-//Diputació de Barcelona//DibaCMS//EN
BEGIN:VEVENT
UID:8242
DTSTAMP:20260422T042511
DTSTART:20190429T080000
DTEND:20200424T000000
SUMMARY:Cursa Sant Jordi, el diumenge 5 de maig
LOCATION:
METHOD:PUBLISH
X-WR-CALNAME:sesrovires@diba.cat
X-WR-TIMEZONE:Europe/Madrid
DESCRIPTION:La Cursa de Sant Jordi se celebrà aquest any el proper diumenge 5 de maig. La Cursa està organitzada per l’Àrea d’Esports i torna  a apostar per un esdeveniment esportiu popular, no competitiu i obert a les persones de totes les edats. Cada any, la cursa se celebra al setmana de la diada de Sant Jordi,  però enguany el calendari electoral ha obligat a desplaçar-la al 5 de maig.

URI:https://www.sesrovires.cat/actualitat/noticies/cursa-sant-jordi-el-diumenge-5-de-maig.html
CLASS:PUBLIC
END:VEVENT
END:VCALENDAR
