BEGIN:VCALENDAR
VERSION:2.0
CALSCALE:GREGORIAN
PRODID:-//Diputació de Barcelona//DibaCMS//EN
BEGIN:VEVENT
UID:8247
DTSTAMP:20260421T232607
DTSTART:20190427T000000
DTEND:20200426T000000
SUMMARY:Un total de 5.760 sesrovirencs i sesrovirenques, cridats a les urnes
LOCATION:
METHOD:PUBLISH
X-WR-CALNAME:sesrovires@diba.cat
X-WR-TIMEZONE:Europe/Madrid
DESCRIPTION:Aquest diumenge 28 d’abril, un total de 5.760 sesrovirencs i sesrovirenques majors d’edat podran exercir el seu dret a vot. En aquesta convocatòria d’Eleccions Generals estan habilitats quatre col·legis electorals, amb un total de dotze meses. L’horari de votació és de les 9 del matí i fins a les 8 del vespre.

URI:https://www.sesrovires.cat/temes/participacio/portal-de-participacio/un-total-de-5760-sesrovirencs-i-sesrovirenques-cridats-a-les-urnes.html
CLASS:PUBLIC
END:VEVENT
END:VCALENDAR
