BEGIN:VCALENDAR
VERSION:2.0
CALSCALE:GREGORIAN
PRODID:-//Diputació de Barcelona//DibaCMS//EN
BEGIN:VEVENT
UID:8268
DTSTAMP:20260422T005807
DTSTART:20190430T163000
DTEND:20200428T000000
SUMMARY:La Primavera Jove arriba al maig amb activitats per als joves
LOCATION:
METHOD:PUBLISH
X-WR-CALNAME:sesrovires@diba.cat
X-WR-TIMEZONE:Europe/Madrid
DESCRIPTION:L’Àrea de Joventut ja té a punt el programa de la Primavera Jove, que se celebrarà del 3 al 12 de maig. Les activitats van destinades al públic juvenil i inclou l’exposició Jovart, un campionat d’skate i una batalla de gallos, entre altres propostes.

URI:https://www.sesrovires.cat/actualitat/noticies/la-primavera-jove-arriba-al-maig-amb-activitats-per-als-joves.html
CLASS:PUBLIC
END:VEVENT
END:VCALENDAR
