BEGIN:VCALENDAR
VERSION:2.0
CALSCALE:GREGORIAN
PRODID:-//Diputació de Barcelona//DibaCMS//EN
BEGIN:VEVENT
UID:8285
DTSTAMP:20260422T010604
DTSTART:20190502T000000
DTEND:20200501T000000
SUMMARY:Inscripcions per a la Trobada de la Gent Gran
LOCATION:
METHOD:PUBLISH
X-WR-CALNAME:sesrovires@diba.cat
X-WR-TIMEZONE:Europe/Madrid
DESCRIPTION:L’Àrea de Benestar Social torna a apostar pel restaurant del Club de Golf per celebrar la Trobada de la Gent Gran, que enguany arriba a la 38a edició. Les inscripcions són del 2 al 12 de maig.

URI:https://www.sesrovires.cat/actualitat/noticies/inscripcions-per-a-la-trobada-de-la-gent-gran.html
CLASS:PUBLIC
END:VEVENT
END:VCALENDAR
