BEGIN:VCALENDAR
VERSION:2.0
CALSCALE:GREGORIAN
PRODID:-//Diputació de Barcelona//DibaCMS//EN
BEGIN:VEVENT
UID:8287
DTSTAMP:20260422T010717
DTSTART:20190504T080000
DTEND:20200501T000000
SUMMARY:Consells per prevenir la presència del mosquit tigre
LOCATION:
METHOD:PUBLISH
X-WR-CALNAME:sesrovires@diba.cat
X-WR-TIMEZONE:Europe/Madrid
DESCRIPTION:Amb l’arribada de la primavera i la pujada de les temperatures, l’Àrea de Salut Pública de l’Ajuntament recorda que és necessari incrementar les mesures per prevenir la presència del mosquit tigre. Aquest mosquit té la capacitat d'actuar com a transmissor d'algunes malalties, com les produïdes pels virus del Chikungunya, el Dengue i el Zika. Per impedir la seva propagació, cal seguir els consells que donen les autoritats sanitàries.

URI:https://www.sesrovires.cat/actualitat/noticies/consells-per-prevenir-la-presencia-del-mosquit-tigre.html
CLASS:PUBLIC
END:VEVENT
END:VCALENDAR
