BEGIN:VCALENDAR
VERSION:2.0
CALSCALE:GREGORIAN
PRODID:-//Diputació de Barcelona//DibaCMS//EN
BEGIN:VEVENT
UID:8289
DTSTAMP:20260422T010747
DTSTART:20190502T155000
DTEND:20200501T000000
SUMMARY:Acord entre l’Ajuntament i la Cambra de Comerç per potenciar i oferir serveis al teixit empresarial local
LOCATION:
METHOD:PUBLISH
X-WR-CALNAME:sesrovires@diba.cat
X-WR-TIMEZONE:Europe/Madrid
DESCRIPTION:L’Ajuntament de Sant Esteve i la Cambra Oficial de Comerç, Indústria i Navegació de Barcelona  han signat un conveni de col·laboració que té com a objectiu potenciar la competittivitat del teixit comercial i industrial del municipi a través de diversos programes de suport com la internacionalització, la formació, l'ocupació juvenil, entre d’altres.

URI:https://www.sesrovires.cat/actualitat/noticies/acord-entre-lajuntament-i-la-cambra-de-comerc-per-potenciar-i-oferir-serveis-al-teixit-empresarial-local.html
CLASS:PUBLIC
END:VEVENT
END:VCALENDAR
