BEGIN:VCALENDAR
VERSION:2.0
CALSCALE:GREGORIAN
PRODID:-//Diputació de Barcelona//DibaCMS//EN
BEGIN:VEVENT
UID:8292
DTSTAMP:20260422T033944
DTSTART:20190506T080000
DTEND:20200502T000000
SUMMARY:Alerta per la presència d’un nou insecte invasor
LOCATION:
METHOD:PUBLISH
X-WR-CALNAME:sesrovires@diba.cat
X-WR-TIMEZONE:Europe/Madrid
DESCRIPTION:El Departament d’Agricultura de la Generalitat està informant als ajuntaments que s’ha detectat a Catalunya la presencia d’un nou insecte invasor, el bernat marbrejat (halyomorpha halys). Es tracta d’una xinxa que pot provocar greus pèrdues econòmiques en l’agricultura i  és molest per a les persones. La Generalitat demana que els ciutadans que detectin aquest insecte ho notifiquin a les autoritats públiques.

URI:https://www.sesrovires.cat/actualitat/noticies/alerta-per-la-presencia-dun-nou-insecte-invasor.html
CLASS:PUBLIC
END:VEVENT
END:VCALENDAR
